BEGIN:VCALENDAR
VERSION:2.0
PRODID:icalendar-ruby
CALSCALE:GREGORIAN
METHOD:PUBLISH
BEGIN:VEVENT
DTSTAMP:20260421T204049Z
UID:18-1678759@tablemountainchurch.com
DTSTART:20260722T130000Z
DTEND:20260722T170000Z
CLASS:PUBLIC
CREATED:20260421T131721
DESCRIPTION:Coffee Shop is open every Wednesay morning from 7am to 11am wee
 kly for groups and individuals to chill and meet other incredible people i
 n the community. Enjoy amazing coffee and espresso drinks or healthy water
  in a chill vibed rustic cabin industrial atmosphere. Donations are accept
 ed but not expected. Come check us out.
LAST-MODIFIED:20260421T131721
LOCATION:Table Mountain Church - 6154 Boulder Ave. Rye\, CO
SUMMARY:Coffee Shop Ministry
URL;VALUE=URI:https://www.tablemountainchurch.com/events/coffee-shop-minist
 ry/2026-07-22
ATTACH;FILENAME=9E66781A-B20D-4450-8591-35CC05B800BF.jpeg;FMTTYPE=image/jpe
 g:https://dq5pwpg1q8ru0.cloudfront.net/2023/02/09/11/41/20/5db234a5-4999-4
 383-b2af-ec1b9572e0e7/9E66781A-B20D-4450-8591-35CC05B800BF.jpeg
END:VEVENT
END:VCALENDAR
