BEGIN:VCALENDAR
VERSION:2.0
PRODID:icalendar-ruby
CALSCALE:GREGORIAN
METHOD:PUBLISH
BEGIN:VEVENT
DTSTAMP:20260420T071910Z
UID:9-1669423@tablemountainchurch.com
DTSTART:20260819T003000Z
DTEND:20260819T020000Z
CLASS:PUBLIC
CREATED:20260420T002533
DESCRIPTION:The men of Table Mountain Church gather weekly in the TMC Coffe
 e Shop for Bible study\, prayer\, and encouragement.
LAST-MODIFIED:20260420T002533
LOCATION:Table Mountain Church Coffee Shop
SUMMARY:Men's Bible Study
URL;VALUE=URI:https://www.tablemountainchurch.com/events/mens-bible-study--
 9/2026-08-18
ATTACH;FILENAME=F39407B3-959E-4855-8DF1-C7DFC2B44C28.jpeg;FMTTYPE=image/jpe
 g:https://dq5pwpg1q8ru0.cloudfront.net/2023/02/09/11/48/13/3e657717-ccf4-4
 d1b-a44b-636d269e985c/F39407B3-959E-4855-8DF1-C7DFC2B44C28.jpeg
END:VEVENT
END:VCALENDAR
