BEGIN:VCALENDAR
VERSION:2.0
PRODID:icalendar-ruby
CALSCALE:GREGORIAN
METHOD:PUBLISH
BEGIN:VEVENT
DTSTAMP:20260426T020208Z
UID:99-1702925@tablemountainchurch.com
DTSTART:20260923T150000Z
DTEND:20260923T170000Z
CLASS:PUBLIC
CREATED:20260425T185615
DESCRIPTION:
LAST-MODIFIED:20260425T185615
LOCATION:TMC Sanctuary
SUMMARY:Prayer Room
URL;VALUE=URI:https://www.tablemountainchurch.com/events/prayer-room/2026-0
 9-23
END:VEVENT
END:VCALENDAR
