BEGIN:VCALENDAR
VERSION:2.0
PRODID:icalendar-ruby
CALSCALE:GREGORIAN
METHOD:PUBLISH
BEGIN:VEVENT
DTSTAMP:20260426T033817Z
UID:99-1702926@tablemountainchurch.com
DTSTART:20260930T150000Z
DTEND:20260930T170000Z
CLASS:PUBLIC
CREATED:20260425T185615
DESCRIPTION:
LAST-MODIFIED:20260425T185615
LOCATION:TMC Sanctuary
SUMMARY:Prayer Room
URL;VALUE=URI:https://www.tablemountainchurch.com/events/prayer-room/2026-0
 9-30
END:VEVENT
END:VCALENDAR
