BEGIN:VCALENDAR
VERSION:2.0
PRODID:icalendar-ruby
CALSCALE:GREGORIAN
METHOD:PUBLISH
BEGIN:VEVENT
DTSTAMP:20260426T015922Z
UID:134-1703060@tablemountainchurch.com
DTSTART:20260923T163000Z
DTEND:20260923T173000Z
CLASS:PUBLIC
CREATED:20260425T185616
DESCRIPTION:Women's Bible Study
LAST-MODIFIED:20260425T185616
LOCATION:TMC Fireside Room
SUMMARY:Women's Bible Study
URL;VALUE=URI:https://www.tablemountainchurch.com/events/womens-bible-study
 --134/2026-09-23
END:VEVENT
END:VCALENDAR
