BEGIN:VCALENDAR
VERSION:2.0
PRODID:icalendar-ruby
CALSCALE:GREGORIAN
METHOD:PUBLISH
BEGIN:VEVENT
DTSTAMP:20260422T182110Z
UID:135-1683837@tablemountainchurch.com
DTSTART:20260926T163000Z
DTEND:20260926T173000Z
CLASS:PUBLIC
CREATED:20260422T112554
DESCRIPTION:
LAST-MODIFIED:20260422T112554
LOCATION:Tino's Coffee Shop\, Colorado City
SUMMARY:Women's Bible Study
URL;VALUE=URI:https://www.tablemountainchurch.com/events/womens-bible-study
 --135/2026-09-26
END:VEVENT
END:VCALENDAR
