BEGIN:VCALENDAR
VERSION:2.0
PRODID:icalendar-ruby
CALSCALE:GREGORIAN
METHOD:PUBLISH
BEGIN:VEVENT
DTSTAMP:20260424T112106Z
UID:135-1692094@tablemountainchurch.com
DTSTART:20261024T163000Z
DTEND:20261024T173000Z
CLASS:PUBLIC
CREATED:20260423T200832
DESCRIPTION:
LAST-MODIFIED:20260423T200832
LOCATION:Tino's Coffee Shop\, Colorado City
SUMMARY:Women's Bible Study
URL;VALUE=URI:https://www.tablemountainchurch.com/events/womens-bible-study
 --135/2026-10-24
END:VEVENT
END:VCALENDAR
