BEGIN:VCALENDAR
VERSION:2.0
PRODID:icalendar-ruby
CALSCALE:GREGORIAN
METHOD:PUBLISH
BEGIN:VEVENT
DTSTAMP:20260424T125333Z
UID:135-1693012@tablemountainchurch.com
DTSTART:20261031T163000Z
DTEND:20261031T173000Z
CLASS:PUBLIC
CREATED:20260424T053654
DESCRIPTION:
LAST-MODIFIED:20260424T053654
LOCATION:Tino's Coffee Shop\, Colorado City
SUMMARY:Women's Bible Study
URL;VALUE=URI:https://www.tablemountainchurch.com/events/womens-bible-study
 --135/2026-10-31
END:VEVENT
END:VCALENDAR
