BEGIN:VCALENDAR
VERSION:2.0
PRODID:icalendar-ruby
CALSCALE:GREGORIAN
METHOD:PUBLISH
BEGIN:VEVENT
DTSTAMP:20260425T112121Z
UID:112-1697525@tablemountainchurch.com
DTSTART:20261026T000000Z
DTEND:20261026T011500Z
CLASS:PUBLIC
CREATED:20260424T194154
DESCRIPTION:
LAST-MODIFIED:20260424T194154
LOCATION:TMC Auditorium
SUMMARY:Youth Group
URL;VALUE=URI:https://www.tablemountainchurch.com/events/youth-group/2026-1
 0-25
END:VEVENT
END:VCALENDAR
