BEGIN:VCALENDAR
VERSION:2.0
PRODID:icalendar-ruby
CALSCALE:GREGORIAN
METHOD:PUBLISH
BEGIN:VEVENT
DTSTAMP:20260425T124903Z
UID:112-1698443@tablemountainchurch.com
DTSTART:20261102T010000Z
DTEND:20261102T021500Z
CLASS:PUBLIC
CREATED:20260425T052848
DESCRIPTION:
LAST-MODIFIED:20260425T052848
LOCATION:TMC Auditorium
SUMMARY:Youth Group
URL;VALUE=URI:https://www.tablemountainchurch.com/events/youth-group/2026-1
 1-01
END:VEVENT
END:VCALENDAR
